BEGIN:VCALENDAR
VERSION:2.0
PRODID:-//Voelbaar in Beweging - ECPv6.15.20//NONSGML v1.0//EN
CALSCALE:GREGORIAN
METHOD:PUBLISH
X-ORIGINAL-URL:https://www.voelbaarinbeweging.nl
X-WR-CALDESC:Evenementen voor Voelbaar in Beweging
REFRESH-INTERVAL;VALUE=DURATION:PT1H
X-Robots-Tag:noindex
X-PUBLISHED-TTL:PT1H
BEGIN:VTIMEZONE
TZID:Europe/Amsterdam
BEGIN:DAYLIGHT
TZOFFSETFROM:+0100
TZOFFSETTO:+0200
TZNAME:CEST
DTSTART:20230326T010000
END:DAYLIGHT
BEGIN:STANDARD
TZOFFSETFROM:+0200
TZOFFSETTO:+0100
TZNAME:CET
DTSTART:20231029T010000
END:STANDARD
BEGIN:DAYLIGHT
TZOFFSETFROM:+0100
TZOFFSETTO:+0200
TZNAME:CEST
DTSTART:20240331T010000
END:DAYLIGHT
BEGIN:STANDARD
TZOFFSETFROM:+0200
TZOFFSETTO:+0100
TZNAME:CET
DTSTART:20241027T010000
END:STANDARD
BEGIN:DAYLIGHT
TZOFFSETFROM:+0100
TZOFFSETTO:+0200
TZNAME:CEST
DTSTART:20250330T010000
END:DAYLIGHT
BEGIN:STANDARD
TZOFFSETFROM:+0200
TZOFFSETTO:+0100
TZNAME:CET
DTSTART:20251026T010000
END:STANDARD
BEGIN:DAYLIGHT
TZOFFSETFROM:+0100
TZOFFSETTO:+0200
TZNAME:CEST
DTSTART:20260329T010000
END:DAYLIGHT
BEGIN:STANDARD
TZOFFSETFROM:+0200
TZOFFSETTO:+0100
TZNAME:CET
DTSTART:20261025T010000
END:STANDARD
BEGIN:DAYLIGHT
TZOFFSETFROM:+0100
TZOFFSETTO:+0200
TZNAME:CEST
DTSTART:20270328T010000
END:DAYLIGHT
BEGIN:STANDARD
TZOFFSETFROM:+0200
TZOFFSETTO:+0100
TZNAME:CET
DTSTART:20271031T010000
END:STANDARD
END:VTIMEZONE
BEGIN:VTIMEZONE
TZID:UTC
BEGIN:STANDARD
TZOFFSETFROM:+0000
TZOFFSETTO:+0000
TZNAME:UTC
DTSTART:20230101T000000
END:STANDARD
END:VTIMEZONE
BEGIN:VEVENT
DTSTART;TZID=Europe/Amsterdam:20260319T100000
DTEND;TZID=Europe/Amsterdam:20260319T170000
DTSTAMP:20260420T123755
CREATED:20251218T133054Z
LAST-MODIFIED:20251218T140446Z
UID:4238-1773914400-1773939600@www.voelbaarinbeweging.nl
SUMMARY:Workshop: Dag vol Liefde
DESCRIPTION:Nieuwsgierig naar de onderliggende patronen binnen jullie relatie of verlangen jullie naar een diepere laag binnen jullie relatie?\nWij bieden een dag workshop voor max. 6 stellen waarin er aandacht is voor de onderstroom van jullie relatie. Patronen worden helder. Op een liefdevolle manier nemen we jullie mee in het elkaar zien voor wie jullie werkelijk zijn. Hiervoor maken we gebruik van systemische oefeningen en lichaamsgerichte oefeningen.\nDeze workshop vindt ook plaats op: 1 oktober\n \nPrijs: €225\,00 per persoon\nVoor meer info of aanmelden; vul het contactformulier in.
URL:https://www.voelbaarinbeweging.nl/agenda/workshop-dag-vol-liefde/
LOCATION:Groen en Vrij\, Anneville laan 222\, Ulvenhout\, 4858 RB\, Netherlands
CATEGORIES:Workshop
ATTACH;FMTTYPE=image/jpeg:https://www.voelbaarinbeweging.nl/wp-content/uploads/2025/12/ViB_DagVolLiefde.jpg
END:VEVENT
BEGIN:VEVENT
DTSTART;VALUE=DATE:20250919
DTEND;VALUE=DATE:20250921
DTSTAMP:20260420T123755
CREATED:20241218T090802Z
LAST-MODIFIED:20241218T090802Z
UID:4147-1758240000-1758412799@www.voelbaarinbeweging.nl
SUMMARY:Workshop: “Met jezelf in zee” – aan de kust
DESCRIPTION:Tweedaagse workshop aan zee.  \nVan de succesvolle workshop “met jezelf in zee” hebben we een uitgebreide\, letterlijk ‘aan zee’\, editie gemaakt. Deze workshop duurt twee dagen en is de grote broer van de dagworkshop. Iedere dag opnieuw de keuze hebben om goed voor jezelf te zorgen\, zal centraal staan in de vorm van lichaamsgerichte oefeningen en familie opstellingen. Kies zelf je accommodatie in Ouddorp\, wij zorgen voor het eten. Ook deze workshop geef ik samen met Nicky de Troije. \nPrijs €289\,- inclusief 2x lunch\, koffie/thee en lekkers. \nVoor meer info en prijzen; vul het contactformulier in.
URL:https://www.voelbaarinbeweging.nl/agenda/3874-2-2/
LOCATION:Groen en Vrij\, Anneville laan 222\, Ulvenhout\, 4858 RB\, Netherlands
CATEGORIES:Workshop
ATTACH;FMTTYPE=image/jpeg:https://www.voelbaarinbeweging.nl/wp-content/uploads/2023/12/ViB_NP_vierkant-1.jpg
END:VEVENT
BEGIN:VEVENT
DTSTART;VALUE=DATE:20250627
DTEND;VALUE=DATE:20250629
DTSTAMP:20260420T123756
CREATED:20241218T090720Z
LAST-MODIFIED:20241218T090720Z
UID:4144-1750982400-1751155199@www.voelbaarinbeweging.nl
SUMMARY:Workshop: “Met jezelf in zee” – aan de kust
DESCRIPTION:Tweedaagse workshop aan zee.  \nVan de succesvolle workshop “met jezelf in zee” hebben we een uitgebreide\, letterlijk ‘aan zee’\, editie gemaakt. Deze workshop duurt twee dagen en is de grote broer van de dagworkshop. Iedere dag opnieuw de keuze hebben om goed voor jezelf te zorgen\, zal centraal staan in de vorm van lichaamsgerichte oefeningen en familie opstellingen. Kies zelf je accommodatie in Ouddorp\, wij zorgen voor het eten. Ook deze workshop geef ik samen met Nicky de Troije. \nPrijs €289\,- inclusief 2x lunch\, koffie/thee en lekkers. \nVoor meer info en prijzen; vul het contactformulier in.
URL:https://www.voelbaarinbeweging.nl/agenda/3874-2/
LOCATION:Groen en Vrij\, Anneville laan 222\, Ulvenhout\, 4858 RB\, Netherlands
CATEGORIES:Workshop
ATTACH;FMTTYPE=image/jpeg:https://www.voelbaarinbeweging.nl/wp-content/uploads/2023/12/ViB_NP_vierkant-1.jpg
END:VEVENT
BEGIN:VEVENT
DTSTART;TZID=UTC:20250406T100000
DTEND;TZID=UTC:20250406T170000
DTSTAMP:20260420T123756
CREATED:20241218T090548Z
LAST-MODIFIED:20241218T090548Z
UID:4137-1743933600-1743958800@www.voelbaarinbeweging.nl
SUMMARY:Met jezelf in zee
DESCRIPTION:﻿  \nEen prachtige dag-workshop samen met mijn gepassioneerde collega haptotherapeut Nicky de Troije\, waarin we aan de slag gaan met het thema zelfliefde. We werken met lichaamsgerichte werkvormen en familieopstellingen in een groep van maximaal 10 personen. \nDeze dag ga jij in zee met jezelf. Kies je voor jezelf\, ga je voelen hoe uniek en precies genoeg jij bent. \nHoe? Door in een groep met maximaal tien anderen door middel van lichaamsgerichte oefeningen\, aandacht voor jouw lijf\, voor jouw talenten en jouw verlangens\, jezelf in alle volledigheid die er op dat moment is\, te voelen. Gedurende de dag zullen we vijf opstellingen met elkaar doen binnen dit thema. Dat betekent dat niet iedereen vraaginbrenger zal zijn. Inmiddels hebben we beiden genoeg ervaring om te weten dat niet alleen als vraaginbrenger een opstelling relevant is. Als representant\, en vanaf de zijlijn wordt je als vanzelf bewogen en geraakt door een opstelling. Thema’s zijn universeel\, zeker dit thema waarin het gaat over de verbinding met jezelf. De belangrijkste die er is. \nWe hebben 10 plekjes. Voel je dat deze dag je trekt? Aarzel niet om je op te geven. \nAanmelden: via contactformulier \n  \nDe kosten zijn voor de hele dag inclusief lunch.
URL:https://www.voelbaarinbeweging.nl/agenda/met-jezelf-in-zee-3/
LOCATION:’t Oale Roadhoes\, Grotestraat 60\, Tubbergen\, 7651 CK
CATEGORIES:Workshop
ATTACH;FMTTYPE=image/jpeg:https://www.voelbaarinbeweging.nl/wp-content/uploads/2023/12/ViB_NP_vierkant-1.jpg
END:VEVENT
BEGIN:VEVENT
DTSTART;TZID=UTC:20250209T100000
DTEND;TZID=UTC:20250209T170000
DTSTAMP:20260420T123756
CREATED:20241218T090215Z
LAST-MODIFIED:20241218T091607Z
UID:4131-1739095200-1739120400@www.voelbaarinbeweging.nl
SUMMARY:Met jezelf in zee
DESCRIPTION:Een prachtige dag-workshop samen met mijn gepassioneerde collega haptotherapeut Nicky de Troije\, waarin we aan de slag gaan met het thema zelfliefde. We werken met lichaamsgerichte werkvormen en familieopstellingen in een groep van maximaal 10 personen. \nDeze dag ga jij in zee met jezelf. Kies je voor jezelf\, ga je voelen hoe uniek en precies genoeg jij bent. \nHoe? Door in een groep met maximaal tien anderen door middel van lichaamsgerichte oefeningen\, aandacht voor jouw lijf\, voor jouw talenten en jouw verlangens\, jezelf in alle volledigheid die er op dat moment is\, te voelen. Gedurende de dag zullen we vijf opstellingen met elkaar doen binnen dit thema. Dat betekent dat niet iedereen vraaginbrenger zal zijn. Inmiddels hebben we beiden genoeg ervaring om te weten dat niet alleen als vraaginbrenger een opstelling relevant is. Als representant\, en vanaf de zijlijn wordt je als vanzelf bewogen en geraakt door een opstelling. Thema’s zijn universeel\, zeker dit thema waarin het gaat over de verbinding met jezelf. De belangrijkste die er is. \nWe hebben 10 plekjes. Voel je dat deze dag je trekt? Aarzel niet om je op te geven. \nAanmelden: via contactformulier \n  \nDe kosten zijn voor de hele dag inclusief lunch.
URL:https://www.voelbaarinbeweging.nl/agenda/met-jezelf-in-zee-2/
LOCATION:House of You\, Hoge Ham 15a\, Dongen\, 2104JA
CATEGORIES:Workshop
ATTACH;FMTTYPE=image/jpeg:https://www.voelbaarinbeweging.nl/wp-content/uploads/2023/12/ViB_NP_vierkant-1.jpg
END:VEVENT
BEGIN:VEVENT
DTSTART;VALUE=DATE:20240920
DTEND;VALUE=DATE:20240922
DTSTAMP:20260420T123756
CREATED:20231218T185540Z
LAST-MODIFIED:20240321T152157Z
UID:3874-1726790400-1726963199@www.voelbaarinbeweging.nl
SUMMARY:Workshop: “Met jezelf in zee” – aan de kust.
DESCRIPTION:Tweedaagse workshop aan zee.  \nVan de succesvolle workshop “met jezelf in zee” hebben we een uitgebreide\, letterlijk ‘aan zee’\, editie gemaakt. Deze workshop duurt twee dagen en is de grote broer van de dagworkshop. Iedere dag opnieuw de keuze hebben om goed voor jezelf te zorgen\, zal centraal staan in de vorm van lichaamsgerichte oefeningen en familie opstellingen. Kies zelf je accommodatie in Ouddorp\, wij zorgen voor het eten. Ook deze workshop geef ik samen met Nicky de Troije. \nPrijs €289\,- inclusief 2x lunch\, koffie/thee en lekkers. \nVoor meer info en prijzen; vul het contactformulier in.
URL:https://www.voelbaarinbeweging.nl/agenda/3874/
LOCATION:Groen en Vrij\, Anneville laan 222\, Ulvenhout\, 4858 RB\, Netherlands
CATEGORIES:Workshop
ATTACH;FMTTYPE=image/jpeg:https://www.voelbaarinbeweging.nl/wp-content/uploads/2023/12/ViB_NP_vierkant-1.jpg
END:VEVENT
BEGIN:VEVENT
DTSTART;VALUE=DATE:20240531
DTEND;VALUE=DATE:20240602
DTSTAMP:20260420T123756
CREATED:20231218T185417Z
LAST-MODIFIED:20240321T152454Z
UID:3870-1717113600-1717286399@www.voelbaarinbeweging.nl
SUMMARY:Workshop: “Met jezelf in zee” – aan de kust.
DESCRIPTION:Tweedaagse workshop aan zee.  \nVan de succesvolle workshop “met jezelf in zee” hebben we een uitgebreide\, letterlijk ‘aan zee’\, editie gemaakt. Deze workshop duurt twee dagen en is de grote broer van de dagworkshop. Iedere dag opnieuw de keuze hebben om goed voor jezelf te zorgen\, zal centraal staan in de vorm van lichaamsgerichte oefeningen en familie opstellingen. Kies zelf je accommodatie in Ouddorp\, wij zorgen voor het eten. Ook deze workshop geef ik samen met Nicky de Troije. \nPrijs €289\,- inclusief 2x lunch\, koffie/thee en lekkers. \nVoor meer info en prijzen; vul het contactformulier in.\nData:31 mei/1 juni en 20/21 september.
URL:https://www.voelbaarinbeweging.nl/agenda/workshop-met-jezelf-in-zee-aan-de-kust/
LOCATION:Groen en Vrij\, Anneville laan 222\, Ulvenhout\, 4858 RB\, Netherlands
CATEGORIES:Workshop
ATTACH;FMTTYPE=image/jpeg:https://www.voelbaarinbeweging.nl/wp-content/uploads/2023/12/ViB_NP_vierkant-1.jpg
END:VEVENT
BEGIN:VEVENT
DTSTART;TZID=UTC:20240211T100000
DTEND;TZID=UTC:20240211T170000
DTSTAMP:20260420T123756
CREATED:20231123T144652Z
LAST-MODIFIED:20231219T131023Z
UID:3510-1707645600-1707670800@www.voelbaarinbeweging.nl
SUMMARY:Durf jij het aan om met jezelf in zee te gaan?
DESCRIPTION:We hebben 10 plekjes. Voel je dat deze dag je trekt? Aarzel niet om je op te geven. \nEen prachtige dag-workshop samen met mijn gepassioneerde collega haptotherapeut Nicky de Troije\, waarin we aan de slag gaan met het thema zelfliefde. We werken met lichaamsgerichte werkvormen en familieopstellingen in een groep van maximaal 10 personen. \nDeze dag ga jij in zee met jezelf. Kies je voor jezelf\, ga je voelen hoe uniek en precies genoeg jij bent. \nHoe? Door in een groep met maximaal tien anderen door middel van lichaamsgerichte oefeningen\, aandacht voor jouw lijf\, voor jouw talenten en jouw verlangens\, jezelf in alle volledigheid die er op dat moment is\, te voelen. Gedurende de dag zullen we vijf opstellingen met elkaar doen binnen dit thema. Dat betekent dat niet iedereen vraaginbrenger zal zijn. Inmiddels hebben we beiden genoeg ervaring om te weten dat niet alleen als vraaginbrenger een opstelling relevant is. Als representant\, en vanaf de zijlijn wordt je als vanzelf bewogen en geraakt door een opstelling. Thema’s zijn universeel\, zeker dit thema waarin het gaat over de verbinding met jezelf. De belangrijkste die er is. \nAanmelden: via contactformulier \n  \nDe kosten zijn voor de hele dag inclusief lunch.
URL:https://www.voelbaarinbeweging.nl/agenda/durf-jij-het-aan-om-met-jezelf-in-zee-te-gaan/
LOCATION:House of You\, Hoge Ham 15a\, Dongen\, 2104JA
CATEGORIES:Workshop
ATTACH;FMTTYPE=image/jpeg:https://www.voelbaarinbeweging.nl/wp-content/uploads/2023/12/ViB_NP_vierkant-1.jpg
END:VEVENT
END:VCALENDAR