BEGIN:VCALENDAR
VERSION:2.0
PRODID:-//Voelbaar in Beweging - ECPv6.15.20//NONSGML v1.0//EN
CALSCALE:GREGORIAN
METHOD:PUBLISH
X-ORIGINAL-URL:https://www.voelbaarinbeweging.nl
X-WR-CALDESC:Evenementen voor Voelbaar in Beweging
REFRESH-INTERVAL;VALUE=DURATION:PT1H
X-Robots-Tag:noindex
X-PUBLISHED-TTL:PT1H
BEGIN:VTIMEZONE
TZID:UTC
BEGIN:STANDARD
TZOFFSETFROM:+0000
TZOFFSETTO:+0000
TZNAME:UTC
DTSTART:20240101T000000
END:STANDARD
END:VTIMEZONE
BEGIN:VTIMEZONE
TZID:Europe/Amsterdam
BEGIN:DAYLIGHT
TZOFFSETFROM:+0100
TZOFFSETTO:+0200
TZNAME:CEST
DTSTART:20240331T010000
END:DAYLIGHT
BEGIN:STANDARD
TZOFFSETFROM:+0200
TZOFFSETTO:+0100
TZNAME:CET
DTSTART:20241027T010000
END:STANDARD
BEGIN:DAYLIGHT
TZOFFSETFROM:+0100
TZOFFSETTO:+0200
TZNAME:CEST
DTSTART:20250330T010000
END:DAYLIGHT
BEGIN:STANDARD
TZOFFSETFROM:+0200
TZOFFSETTO:+0100
TZNAME:CET
DTSTART:20251026T010000
END:STANDARD
BEGIN:DAYLIGHT
TZOFFSETFROM:+0100
TZOFFSETTO:+0200
TZNAME:CEST
DTSTART:20260329T010000
END:DAYLIGHT
BEGIN:STANDARD
TZOFFSETFROM:+0200
TZOFFSETTO:+0100
TZNAME:CET
DTSTART:20261025T010000
END:STANDARD
END:VTIMEZONE
BEGIN:VEVENT
DTSTART;TZID=UTC:20250406T100000
DTEND;TZID=UTC:20250406T170000
DTSTAMP:20260420T104959
CREATED:20241218T090548Z
LAST-MODIFIED:20241218T090548Z
UID:4137-1743933600-1743958800@www.voelbaarinbeweging.nl
SUMMARY:Met jezelf in zee
DESCRIPTION:﻿  \nEen prachtige dag-workshop samen met mijn gepassioneerde collega haptotherapeut Nicky de Troije\, waarin we aan de slag gaan met het thema zelfliefde. We werken met lichaamsgerichte werkvormen en familieopstellingen in een groep van maximaal 10 personen. \nDeze dag ga jij in zee met jezelf. Kies je voor jezelf\, ga je voelen hoe uniek en precies genoeg jij bent. \nHoe? Door in een groep met maximaal tien anderen door middel van lichaamsgerichte oefeningen\, aandacht voor jouw lijf\, voor jouw talenten en jouw verlangens\, jezelf in alle volledigheid die er op dat moment is\, te voelen. Gedurende de dag zullen we vijf opstellingen met elkaar doen binnen dit thema. Dat betekent dat niet iedereen vraaginbrenger zal zijn. Inmiddels hebben we beiden genoeg ervaring om te weten dat niet alleen als vraaginbrenger een opstelling relevant is. Als representant\, en vanaf de zijlijn wordt je als vanzelf bewogen en geraakt door een opstelling. Thema’s zijn universeel\, zeker dit thema waarin het gaat over de verbinding met jezelf. De belangrijkste die er is. \nWe hebben 10 plekjes. Voel je dat deze dag je trekt? Aarzel niet om je op te geven. \nAanmelden: via contactformulier \n  \nDe kosten zijn voor de hele dag inclusief lunch.
URL:https://www.voelbaarinbeweging.nl/agenda/met-jezelf-in-zee-3/
LOCATION:’t Oale Roadhoes\, Grotestraat 60\, Tubbergen\, 7651 CK
CATEGORIES:Workshop
ATTACH;FMTTYPE=image/jpeg:https://www.voelbaarinbeweging.nl/wp-content/uploads/2023/12/ViB_NP_vierkant-1.jpg
END:VEVENT
BEGIN:VEVENT
DTSTART;TZID=Europe/Amsterdam:20250413T140000
DTEND;TZID=Europe/Amsterdam:20250413T173000
DTSTAMP:20260420T104959
CREATED:20241105T091111Z
LAST-MODIFIED:20250120T085703Z
UID:4103-1744552800-1744565400@www.voelbaarinbeweging.nl
SUMMARY:Workshop: familieopstellingen
DESCRIPTION:In een familieopstelling krijg je op een diepere laag helderheid en inzicht op een thema waar je mee zit. Je ervaart waar het in de kern om draait. \nAanmelden:via het contactformulier.\nGeef even aan in de mail of je een vraag wil in brengen of als representant aanwezig wil zijn. \nVolgende data van de workshop op zondagmiddagen van 14.00-17.30: 18 mei\, 22 juni\, 14 september\, 12 oktober\, 9 november en 14 december\n \n*Jouw bijdrage: 125 euro voor het inbrengen van een vraag en 45 euro als je alleen wil deelnemen als representant.
URL:https://www.voelbaarinbeweging.nl/agenda/workshop-familieopstellingen-13-april/
LOCATION:CoVita\, Schuttevaerkade 99b\, Dordrecht\, Nederland
CATEGORIES:Workshop
ATTACH;FMTTYPE=image/jpeg:https://www.voelbaarinbeweging.nl/wp-content/uploads/2023/12/ViB_familieopstellingen.jpg
END:VEVENT
END:VCALENDAR