BEGIN:VCALENDAR
VERSION:2.0
PRODID:-//Voelbaar in Beweging - ECPv6.15.20//NONSGML v1.0//EN
CALSCALE:GREGORIAN
METHOD:PUBLISH
X-WR-CALNAME:Voelbaar in Beweging
X-ORIGINAL-URL:https://www.voelbaarinbeweging.nl
X-WR-CALDESC:Evenementen voor Voelbaar in Beweging
REFRESH-INTERVAL;VALUE=DURATION:PT1H
X-Robots-Tag:noindex
X-PUBLISHED-TTL:PT1H
BEGIN:VTIMEZONE
TZID:Europe/Amsterdam
BEGIN:DAYLIGHT
TZOFFSETFROM:+0100
TZOFFSETTO:+0200
TZNAME:CEST
DTSTART:20230326T010000
END:DAYLIGHT
BEGIN:STANDARD
TZOFFSETFROM:+0200
TZOFFSETTO:+0100
TZNAME:CET
DTSTART:20231029T010000
END:STANDARD
BEGIN:DAYLIGHT
TZOFFSETFROM:+0100
TZOFFSETTO:+0200
TZNAME:CEST
DTSTART:20240331T010000
END:DAYLIGHT
BEGIN:STANDARD
TZOFFSETFROM:+0200
TZOFFSETTO:+0100
TZNAME:CET
DTSTART:20241027T010000
END:STANDARD
BEGIN:DAYLIGHT
TZOFFSETFROM:+0100
TZOFFSETTO:+0200
TZNAME:CEST
DTSTART:20250330T010000
END:DAYLIGHT
BEGIN:STANDARD
TZOFFSETFROM:+0200
TZOFFSETTO:+0100
TZNAME:CET
DTSTART:20251026T010000
END:STANDARD
END:VTIMEZONE
BEGIN:VEVENT
DTSTART;TZID=Europe/Amsterdam:20241013T140000
DTEND;TZID=Europe/Amsterdam:20241013T173000
DTSTAMP:20260424T182953
CREATED:20240321T150959Z
LAST-MODIFIED:20240703T151800Z
UID:4015-1728828000-1728840600@www.voelbaarinbeweging.nl
SUMMARY:Workshop: Familieopstellingen
DESCRIPTION:In een familieopstelling krijg je op een diepere laag helderheid en inzicht op een thema waar je mee zit. Je ervaart waar het in de kern om draait. \nAanmelden:via het contactformulier.\nGeef even aan in de mail of je een vraag wil in brengen of als representant aanwezig wil zijn. \nVolgende data workshops familieopstellingen in 2024: zondag 10 november\, zondag 1 december.\n \n*Jouw bijdrage: 95 euro voor het inbrengen van een vraag en 35 euro als je alleen wil deelnemen als representant.
URL:https://www.voelbaarinbeweging.nl/agenda/workshop-familieopstellingen-6/
LOCATION:CoVita\, Schuttevaerkade 99b\, Dordrecht\, Nederland
CATEGORIES:Workshop
ATTACH;FMTTYPE=image/jpeg:https://www.voelbaarinbeweging.nl/wp-content/uploads/2023/12/ViB_familieopstellingen.jpg
END:VEVENT
END:VCALENDAR